Workbook

Sheet Instructions
A5: Trade Journal
B8: Links: | D8: Option Samurai | I8: Installation help
D9: Excel integration help article | I9: Blog post about this template
A12: Description
B14: This file will help you monitor your options trades in an intuitive and semi-automatic manner. All you need to do is direct yourself to the "Trades" tab and insert the values in the blue cells. The pivot tables will need to be updated so that all the information in the "Overview" tab are ready to be checked.
A20: Instructions
B22: Follow these steps to use this trade journal file: 1) Fill in the information in the blue columns in the "Trades" tab. Note that you can also add multi-leg trades in this tab, just make sure you follow the simple rule of using one row per leg (e.g., for a long straddle, you will have one row for the call you bought and one row for the put you bought, with two different profis/losses) 2) The other columns in the "Trades" tab will be automatically calculated with either formulas or our add-in 3) Head to the "Overview" tab and right-click on the pivot tables to update them. You will find more detailed information on how this overview works in the detailed tab 4) Repeat the operations above and improve your trading style in the options market

Sheet Overview
B2: Learn to use the Overview tab of your trade journal:
B3: 1) In the gray box, you have two tables. Table A shows you the total number of trades in the journal, divided between closed and open trades. Table B focuses on the profitability of your trades, with the P&L your realized (i.e., the P&L on the operations you closed), the unrealized P&L (the current P&L of the operations you have not yet closed), and the percentage of profitable trades only considering the closed ones). 2) The gray box also features two charts. "My portfolio" shows you the composition of your portfolio (only considering the trades you have not closed yet), while "My monthly P&L" shows the realized P&L month after month. 3) The three tables below the gray box are pivot tables that show you a) the strategy P&L breakdown to help you understand whether there are strategies more profitable than others in your journal, b) the detailed numbers composing your portfolio and c) the detailed numbers of the realized P&L in your journal. Note: everytime you add a trade to the "Trades" tab, make sure you right-click any of these 3 pivot tables and select "update" to refresh the overview data
B14: Table A | C14: Number of trades | E14: =COUNT(Trades!N:N) -> 8
C15: Closed trades | E15: =COUNTIF(Trades!K:K,"Yes") -> 6
C16: Open trades | E16: =E14-E15 -> 2
B18: Table B | C18: Realized P&L | E18: =SUMIF(Trades!K:K,"Yes",Trades!N:N) -> 6416
C19: Unrealized P&L | E19: =SUMIF(Trades!K:K,"No",Trades!N:N) -> 1032
C20: % Profitable trades (closed) | E20: =COUNTIFS(Trades!K:K,"Yes",Trades!N:N,">0")/E15 -> 0.83333333
B27: Strategy P&L Breakdown | K27: My Portofolio | O27: Realized P&L
B28: Closed trade? | C28: Yes | K28: Closed trade? | L28: No | O28: Closed trade? | P28: Yes
B30: Row Labels | C30: Sum of P&L | K30: Row Labels | L30: Sum of Open position $ | M30: Sum of Latest position $ | O30: Row Labels | P30: Sum of P&L
B31: Long call | C31: 340 | K31: AAPL | L31: 2200 | M31: 3225 | O31: 4-2024 | P31: 31
B32: Naked put | C32: 400 | K32: KMI | L32: 80 | M32: 87 | O32: 5-2024 | P32: 740
B33: Naked call | C33: 31 | K33: Grand Total | L33: 2280 | M33: 3312 | O33: 6-2024 | P33: 5645
B34: Grand Total | C34: 771 | O34: Grand Total | P34: 6416

Sheet Trades
A1: Ticker | B1: Strategy | C1: Buy/Sell | D1: Option type | E1: Strike price | F1: Expiration date | G1: Opening price | H1: Open position $ | I1: Latest price | J1: Latest position $ | K1: Closed trade? | L1: Closing date | M1: Month-Year | N1: P&L | O1: Lesson learned | P1: Notes
A2: GOOGL | B2: Naked call | C2: Sell | D2: Call | E2: 1000 | F2: 45492 | G2: 0.43 | H2: =IF(G2="","",G2*100) -> 43 | I2: 0.12 | J2: =IF(I2="","",I2*100) -> 12 | K2: Yes | L2: 45412 | M2: =IF(L2="","",MONTH(L2)&"-"&YEAR(L2)) -> 4-2024 | N2: =IF(C2="Buy",IF(I2="","",I2*100-H2),IF(I2="","",H2-I2*100)) -> 31 | O2: Selling OTM calls and closing them early seems to work | P2: Would be interesting to reperform on same stock
A3: AAPL | B3: Long call | C3: Buy | D3: Call | E3: 180 | F3: 45443 | G3: 8.8 | H3: =IF(G3="","",G3*100) -> 880 | I3: 12.2 | J3: =IF(I3="","",I3*100) -> 1220 | K3: Yes | L3: 45441 | M3: =IF(L3="","",MONTH(L3)&"-"&YEAR(L3)) -> 5-2024 | N3: =IF(C3="Buy",IF(I3="","",I3*100-H3),IF(I3="","",H3-I3*100)) -> 340 | O3: It's good to buy options with low IV | P3: Repeat this strategies to confirm reliability
A4: MSFT | B4: Long put | C4: Buy | D4: Put | E4: 500 | F4: 45499 | G4: 42 | H4: =IF(G4="","",G4*100) -> 4200 | I4: 49.85 | J4: =IF(I4="","",I4*100) -> 4985 | K4: Yes | L4: 45460 | M4: =IF(L4="","",MONTH(L4)&"-"&YEAR(L4)) -> 6-2024 | N4: =IF(C4="Buy",IF(I4="","",I4*100-H4),IF(I4="","",H4-I4*100)) -> 785
A5: NVDA | B5: Naked put | C5: Sell | D5: Put | E5: 900 | F5: 45457 | G5: 5.9 | H5: =IF(G5="","",G5*100) -> 590 | I5: 1.9 | J5: =IF(I5="","",I5*100) -> 190 | K5: Yes | L5: 45440 | M5: =IF(L5="","",MONTH(L5)&"-"&YEAR(L5)) -> 5-2024 | N5: =IF(C5="Buy",IF(I5="","",I5*100-H5),IF(I5="","",H5-I5*100)) -> 400
A6: NFLX | B6: Long straddle | C6: Buy | D6: Call | E6: 640 | F6: 45499 | G6: 9.9 | H6: =IF(G6="","",G6*100) -> 990 | I6: 65 | J6: =IF(I6="","",I6*100) -> 6500 | K6: Yes | L6: 45460 | M6: =IF(L6="","",MONTH(L6)&"-"&YEAR(L6)) -> 6-2024 | N6: =IF(C6="Buy",IF(I6="","",I6*100-H6),IF(I6="","",H6-I6*100)) -> 5510
A7: NFLX | B7: Long straddle | C7: Buy | D7: Put | E7: 640 | F7: 45499 | G7: 7.4 | H7: =IF(G7="","",G7*100) -> 740 | I7: 0.9 | J7: =IF(I7="","",I7*100) -> 90 | K7: Yes | L7: 45460 | M7: =IF(L7="","",MONTH(L7)&"-"&YEAR(L7)) -> 6-2024 | N7: =IF(C7="Buy",IF(I7="","",I7*100-H7),IF(I7="","",H7-I7*100)) -> -650
A8: KMI | B8: Long call | C8: Buy | D8: Call | E8: 19 | F8: 45520 | G8: 0.8 | H8: =IF(G8="","",G8*100) -> 80 | I8: {=IF(H8="","",IF(K8="Yes","Enter close price",_xldudf_OPTIONSAMURAI_OPTION(A8, D8, TEXT(F8, "yyyy-mm-dd"), E8, "mid")))} -> 0.87 | J8: =IF(I8="","",I8*100) -> 87 | K8: No | M8: =IF(L8="","",MONTH(L8)&"-"&YEAR(L8)) | N8: =IF(C8="Buy",IF(I8="","",I8*100-H8),IF(I8="","",H8-I8*100)) -> 7
A9: AAPL | B9: Long put | C9: Buy | D9: Put | E9: 240 | F9: 45520 | G9: 22 | H9: =IF(G9="","",G9*100) -> 2200 | I9: {=IF(H9="","",IF(K9="Yes","Enter close price",_xldudf_OPTIONSAMURAI_OPTION(A9, D9, TEXT(F9, "yyyy-mm-dd"), E9, "mid")))} -> 32.25 | J9: =IF(I9="","",I9*100) -> 3225 | K9: No | M9: =IF(L9="","",MONTH(L9)&"-"&YEAR(L9)) | N9: =IF(C9="Buy",IF(I9="","",I9*100-H9),IF(I9="","",H9-I9*100)) -> 1025
H10: =IF(G10="","",G10*100) | I10: {=IF(H10="","",IF(K10="Yes","Enter close price",_xldudf_OPTIONSAMURAI_OPTION(A10, D10, TEXT(F10, "yyyy-mm-dd"), E10, "mid")))} | J10: =IF(I10="","",I10*100) | M10: =IF(L10="","",MONTH(L10)&"-"&YEAR(L10)) | N10: =IF(C10="Buy",IF(I10="","",I10*100-H10),IF(I10="","",H10-I10*100))
H11: =IF(G11="","",G11*100) | I11: {=IF(H11="","",IF(K11="Yes","Enter close price",_xldudf_OPTIONSAMURAI_OPTION(A11, D11, TEXT(F11, "yyyy-mm-dd"), E11, "mid")))} | J11: =IF(I11="","",I11*100) | M11: =IF(L11="","",MONTH(L11)&"-"&YEAR(L11)) | N11: =IF(C11="Buy",IF(I11="","",I11*100-H11),IF(I11="","",H11-I11*100))
H12: =IF(G12="","",G12*100) | I12: {=IF(H12="","",IF(K12="Yes","Enter close price",_xldudf_OPTIONSAMURAI_OPTION(A12, D12, TEXT(F12, "yyyy-mm-dd"), E12, "mid")))} | J12: =IF(I12="","",I12*100) | M12: =IF(L12="","",MONTH(L12)&"-"&YEAR(L12)) | N12: =IF(C12="Buy",IF(I12="","",I12*100-H12),IF(I12="","",H12-I12*100))
H13: =IF(G13="","",G13*100) | I13: {=IF(H13="","",IF(K13="Yes","Enter close price",_xldudf_OPTIONSAMURAI_OPTION(A13, D13, TEXT(F13, "yyyy-mm-dd"), E13, "mid")))} | J13: =IF(I13="","",I13*100) | M13: =IF(L13="","",MONTH(L13)&"-"&YEAR(L13)) | N13: =IF(C13="Buy",IF(I13="","",I13*100-H13),IF(I13="","",H13-I13*100))
H14: =IF(G14="","",G14*100) | I14: {=IF(H14="","",IF(K14="Yes","Enter close price",_xldudf_OPTIONSAMURAI_OPTION(A14, D14, TEXT(F14, "yyyy-mm-dd"), E14, "mid")))} | J14: =IF(I14="","",I14*100) | M14: =IF(L14="","",MONTH(L14)&"-"&YEAR(L14)) | N14: =IF(C14="Buy",IF(I14="","",I14*100-H14),IF(I14="","",H14-I14*100))
H15: =IF(G15="","",G15*100) | I15: {=IF(H15="","",IF(K15="Yes","Enter close price",_xldudf_OPTIONSAMURAI_OPTION(A15, D15, TEXT(F15, "yyyy-mm-dd"), E15, "mid")))} | J15: =IF(I15="","",I15*100) | M15: =IF(L15="","",MONTH(L15)&"-"&YEAR(L15)) | N15: =IF(C15="Buy",IF(I15="","",I15*100-H15),IF(I15="","",H15-I15*100))
H16: =IF(G16="","",G16*100) | I16: {=IF(H16="","",IF(K16="Yes","Enter close price",_xldudf_OPTIONSAMURAI_OPTION(A16, D16, TEXT(F16, "yyyy-mm-dd"), E16, "mid")))} | J16: =IF(I16="","",I16*100) | M16: =IF(L16="","",MONTH(L16)&"-"&YEAR(L16)) | N16: =IF(C16="Buy",IF(I16="","",I16*100-H16),IF(I16="","",H16-I16*100))
H17: =IF(G17="","",G17*100) | I17: {=IF(H17="","",IF(K17="Yes","Enter close price",_xldudf_OPTIONSAMURAI_OPTION(A17, D17, TEXT(F17, "yyyy-mm-dd"), E17, "mid")))} | J17: =IF(I17="","",I17*100) | M17: =IF(L17="","",MONTH(L17)&"-"&YEAR(L17)) | N17: =IF(C17="Buy",IF(I17="","",I17*100-H17),IF(I17="","",H17-I17*100))
H18: =IF(G18="","",G18*100) | I18: {=IF(H18="","",IF(K18="Yes","Enter close price",_xldudf_OPTIONSAMURAI_OPTION(A18, D18, TEXT(F18, "yyyy-mm-dd"), E18, "mid")))} | J18: =IF(I18="","",I18*100) | M18: =IF(L18="","",MONTH(L18)&"-"&YEAR(L18)) | N18: =IF(C18="Buy",IF(I18="","",I18*100-H18),IF(I18="","",H18-I18*100))
H19: =IF(G19="","",G19*100) | I19: {=IF(H19="","",IF(K19="Yes","Enter close price",_xldudf_OPTIONSAMURAI_OPTION(A19, D19, TEXT(F19, "yyyy-mm-dd"), E19, "mid")))} | J19: =IF(I19="","",I19*100) | M19: =IF(L19="","",MONTH(L19)&"-"&YEAR(L19)) | N19: =IF(C19="Buy",IF(I19="","",I19*100-H19),IF(I19="","",H19-I19*100))
H20: =IF(G20="","",G20*100) | I20: {=IF(H20="","",IF(K20="Yes","Enter close price",_xldudf_OPTIONSAMURAI_OPTION(A20, D20, TEXT(F20, "yyyy-mm-dd"), E20, "mid")))} | J20: =IF(I20="","",I20*100) | M20: =IF(L20="","",MONTH(L20)&"-"&YEAR(L20)) | N20: =IF(C20="Buy",IF(I20="","",I20*100-H20),IF(I20="","",H20-I20*100))
H21: =IF(G21="","",G21*100) | I21: {=IF(H21="","",IF(K21="Yes","Enter close price",_xldudf_OPTIONSAMURAI_OPTION(A21, D21, TEXT(F21, "yyyy-mm-dd"), E21, "mid")))} | J21: =IF(I21="","",I21*100) | M21: =IF(L21="","",MONTH(L21)&"-"&YEAR(L21)) | N21: =IF(C21="Buy",IF(I21="","",I21*100-H21),IF(I21="","",H21-I21*100))
... H47: =IF(G47="","",G47*100) | I47: {=IF(H47="","",IF(K47="Yes","Enter close price",_xldudf_OPTIONSAMURAI_OPTION(A47, D47, TEXT(F47, "yyyy-mm-dd"), E47, "mid")))} | J47: =IF(I47="","",I47*100) | M47: =IF(L47="","",MONTH(L47)&"-"&YEAR(L47)) | N47: =IF(C47="Buy",IF(I47="","",I47*100-H47),IF(I47="","",H47-I47*100))
H48: =IF(G48="","",G48*100) | J48: =IF(I48="","",I48*100) | M48: =IF(L48="","",MONTH(L48)&"-"&YEAR(L48)) | N48: =IF(C48="Buy",IF(I48="","",I48*100-H48),IF(I48="","",H48-I48*100))
H49: =IF(G49="","",G49*100) | J49: =IF(I49="","",I49*100) | M49: =IF(L49="","",MONTH(L49)&"-"&YEAR(L49)) | N49: =IF(C49="Buy",IF(I49="","",I49*100-H49),IF(I49="","",H49-I49*100))
H50: =IF(G50="","",G50*100) | J50: =IF(I50="","",I50*100) | M50: =IF(L50="","",MONTH(L50)&"-"&YEAR(L50)) | N50: =IF(C50="Buy",IF(I50="","",I50*100-H50),IF(I50="","",H50-I50*100))
H51: =IF(G51="","",G51*100) | M51: =IF(L51="","",MONTH(L51)&"-"&YEAR(L51)) | N51: =IF(C51="Buy",IF(I51="","",I51*100-H51),IF(I51="","",H51-I51*100))
H52: =IF(G52="","",G52*100) | M52: =IF(L52="","",MONTH(L52)&"-"&YEAR(L52)) | N52: =IF(C52="Buy",IF(I52="","",I52*100-H52),IF(I52="","",H52-I52*100))
H53: =IF(G53="","",G53*100) | M53: =IF(L53="","",MONTH(L53)&"-"&YEAR(L53)) | N53: =IF(C53="Buy",IF(I53="","",I53*100-H53),IF(I53="","",H53-I53*100))
H54: =IF(G54="","",G54*100) | M54: =IF(L54="","",MONTH(L54)&"-"&YEAR(L54)) | N54: =IF(C54="Buy",IF(I54="","",I54*100-H54),IF(I54="","",H54-I54*100))
H55: =IF(G55="","",G55*100) | M55: =IF(L55="","",MONTH(L55)&"-"&YEAR(L55)) | N55: =IF(C55="Buy",IF(I55="","",I55*100-H55),IF(I55="","",H55-I55*100))
H56: =IF(G56="","",G56*100) | M56: =IF(L56="","",MONTH(L56)&"-"&YEAR(L56)) | N56: =IF(C56="Buy",IF(I56="","",I56*100-H56),IF(I56="","",H56-I56*100))
H57: =IF(G57="","",G57*100) | M57: =IF(L57="","",MONTH(L57)&"-"&YEAR(L57)) | N57: =IF(C57="Buy",IF(I57="","",I57*100-H57),IF(I57="","",H57-I57*100))
H58: =IF(G58="","",G58*100) | M58: =IF(L58="","",MONTH(L58)&"-"&YEAR(L58)) | N58: =IF(C58="Buy",IF(I58="","",I58*100-H58),IF(I58="","",H58-I58*100))
H59: =IF(G59="","",G59*100) | M59: =IF(L59="","",MONTH(L59)&"-"&YEAR(L59)) | N59: =IF(C59="Buy",IF(I59="","",I59*100-H59),IF(I59="","",H59-I59*100))
H60: =IF(G60="","",G60*100) | M60: =IF(L60="","",MONTH(L60)&"-"&YEAR(L60)) | N60: =IF(C60="Buy",IF(I60="","",I60*100-H60),IF(I60="","",H60-I60*100))
H61: =IF(G61="","",G61*100) | M61: =IF(L61="","",MONTH(L61)&"-"&YEAR(L61)) | N61: =IF(C61="Buy",IF(I61="","",I61*100-H61),IF(I61="","",H61-I61*100))
H62: =IF(G62="","",G62*100) | M62: =IF(L62="","",MONTH(L62)&"-"&YEAR(L62)) | N62: =IF(C62="Buy",IF(I62="","",I62*100-H62),IF(I62="","",H62-I62*100))
M63: =IF(L63="","",MONTH(L63)&"-"&YEAR(L63)) | N63: =IF(C63="Buy",IF(I63="","",I63*100-H63),IF(I63="","",H63-I63*100))
M64: =IF(L64="","",MONTH(L64)&"-"&YEAR(L64)) | N64: =IF(C64="Buy",IF(I64="","",I64*100-H64),IF(I64="","",H64-I64*100))
M65: =IF(L65="","",MONTH(L65)&"-"&YEAR(L65)) | N65: =IF(C65="Buy",IF(I65="","",I65*100-H65),IF(I65="","",H65-I65*100))
M66: =IF(L66="","",MONTH(L66)&"-"&YEAR(L66)) | N66: =IF(C66="Buy",IF(I66="","",I66*100-H66),IF(I66="","",H66-I66*100))
M67: =IF(L67="","",MONTH(L67)&"-"&YEAR(L67)) | N67: =IF(C67="Buy",IF(I67="","",I67*100-H67),IF(I67="","",H67-I67*100))
M68: =IF(L68="","",MONTH(L68)&"-"&YEAR(L68)) | N68: =IF(C68="Buy",IF(I68="","",I68*100-H68),IF(I68="","",H68-I68*100))
M69: =IF(L69="","",MONTH(L69)&"-"&YEAR(L69)) | N69: =IF(C69="Buy",IF(I69="","",I69*100-H69),IF(I69="","",H69-I69*100))
M70: =IF(L70="","",MONTH(L70)&"-"&YEAR(L70)) | N70: =IF(C70="Buy",IF(I70="","",I70*100-H70),IF(I70="","",H70-I70*100))
M71: =IF(L71="","",MONTH(L71)&"-"&YEAR(L71)) | N71: =IF(C71="Buy",IF(I71="","",I71*100-H71),IF(I71="","",H71-I71*100))
M72: =IF(L72="","",MONTH(L72)&"-"&YEAR(L72)) | N72: =IF(C72="Buy",IF(I72="","",I72*100-H72),IF(I72="","",H72-I72*100))
M73: =IF(L73="","",MONTH(L73)&"-"&YEAR(L73)) | N73: =IF(C73="Buy",IF(I73="","",I73*100-H73),IF(I73="","",H73-I73*100))
M74: =IF(L74="","",MONTH(L74)&"-"&YEAR(L74)) | N74: =IF(C74="Buy",IF(I74="","",I74*100-H74),IF(I74="","",H74-I74*100))
... M76: =IF(L76="","",MONTH(L76)&"-"&YEAR(L76)) | N76: =IF(C76="Buy",IF(I76="","",I76*100-H76),IF(I76="","",H76-I76*100))
M77: =IF(L77="","",MONTH(L77)&"-"&YEAR(L77))
