Workbook

Sheet Instructions
A5: Reverse DCF Template (Watchlist)
B8: Links: | D8: Option Samurai | I8: Installation help
D9: Excel integration help article | I9: Blog post about this template
A12: Description
B14: The idea behind the Reverse DCF model is to let you understand the implied growth rate derived from a stock valuation. In other words, by twisting the classic DCF (discounted cash flow) model, you manage to find the growth rate at which the market is pricing the company at any moment. This is priceless information, as it will let you compare the implied growth rate with your assumptions or benchmarks, such as the past EPS growth rate, the expected EPS growth rate in the future, and so on. Once you compare the implied growth rate with other relevant measurements, you can make a more informed decision. This template lets you input more than one company at the same time, a strategy that can let you run, for instance, sector analysis. Remember: if you believe the growth will be more than the implied growth, the stock is underpriced, and it's a bullish indicator. The opposite is true for the case in which you think the growth will be lower than the implied growth.
A23: Instructions
B25: 1. While using the template, you'll only need to change the values in the green columns of the "Data" template (Tables A and B) 2. Choosing a stock tickers (make sure it's a valid one) will trigger our add-in to compute the current valuation information (In the “Compare” tab, you can refer to Table C, left-hand side) 3. Feed the model the Free Cash Flow (TTM). Click on the URL in the "Free cash flow TTM Source" column after choosing your ticker to retrieve this information and divide the number on the website by 1,000. If this value is not reprensetative (i.e., too volatile over the years), you may consider other solutions (e.g., take the average or median yearly value for the FCF) 4. Add the terminal growth rate in Table B. This is the rate of growth at which the companies will grow after the next 5 years (which, for simplicity, will represent our long term growth rate). For the US market, it is fair to assume a rate between 2% and 4%. 5. Add the discount rate, which experts would normally estimate between 8% and 12%. 6. Add a growth rate for years 1 to 5 for each company in the watchlist in Table A. The idea here is to play with this rate until you get an implied valuation (the last column in Table A) that is as close as possible to the current market price. 7. If you want more details on the free cash flow computation, you will be able to view the "Free Cash Flow Data" with tables E.1, E.2, and E.3 for each stock in your watchlist. 8. Table C also gives you details on the EPS growth in the past 5 years and the expected EPS growth in the next 5 years. We've also specified the implied valuation of the stock assuming these values as your implied growth rates. 9. We have also added the information on the analysts' target price from our add-in. This is useful information to compare the result of your implied growth rate. In this sense, Table C will provide you with a series of sanity checks for your analysis, just like a professional would do

Sheet Data
C2: Table A | G2: Implied valuation and gap from current price | J2: Table B
C3: Ticker | D3: Free cash flow TTM ($ Mln)* | E3: Free cash flow TTM Source | F3: 5-year growth rate | J3: Terminal growth rate | K3: 0.03
B4: Stock 1 | C4: XOM | D4: 33450 | E4: =IF(C4="","Please enter a stock ticker in C3",HYPERLINK("https://finance.yahoo.com/quote/"&C4&"/cash-flow/")) -> https://finance.yahoo.com/quote/XOM/cash-flow/ | F4: -0.01 | G4: =IF(D4="","",IF($C$4="","",IF('Free Cash Flow Data'!$F$12<Compare!C4,"$ "&ROUND('Free Cash Flow Data'!$F$12,2)&" (-"&100*ROUND((Compare!C4-'Free Cash Flow Data'!$F$12)/Compare!C4,4)&"%)","$ "&ROUND('Free Cash Flow Data'!$F$12,2)&" (+"&100*ROUND(('Free Cash Flow Data'!$F$12-Compare!C4)/Compare!C4,4)&"%)"))) -> $ 103.56 (-0.27%) | J4: Discount rate | K4: 0.1
B5: Stock 2 | C5: CVX | D5: 15108 | E5: =IF(C5="","Please enter a stock ticker in C3",HYPERLINK("https://finance.yahoo.com/quote/"&C5&"/cash-flow/")) -> https://finance.yahoo.com/quote/CVX/cash-flow/ | F5: 0.095 | G5: =IF(D5="","",IF($C$5="","",IF('Free Cash Flow Data'!$F$24<Compare!$C5,"$ "&ROUND('Free Cash Flow Data'!$F$24,2)&" (-"&100*ROUND((Compare!$C5-'Free Cash Flow Data'!$F$24)/Compare!$C5,4)&"%)","$ "&ROUND('Free Cash Flow Data'!$F$24,2)&" (+"&100*ROUND(('Free Cash Flow Data'!$F$24-Compare!$C5)/Compare!$C5,4)&"%)"))) -> $ 155.05 (+0.25%)
B6: Stock 3 | C6: COP | D6: 8717 | E6: =IF(C6="","Please enter a stock ticker in C3",HYPERLINK("https://finance.yahoo.com/quote/"&C6&"/cash-flow/")) -> https://finance.yahoo.com/quote/COP/cash-flow/ | F6: 0.035 | G6: =IF(D6="","",IF($C$6="","",IF('Free Cash Flow Data'!$F$36<Compare!$C6,"$ "&ROUND('Free Cash Flow Data'!$F$36,2)&" (-"&100*ROUND((Compare!$C6-'Free Cash Flow Data'!$F$36)/Compare!$C6,4)&"%)","$ "&ROUND('Free Cash Flow Data'!$F$36,2)&" (+"&100*ROUND(('Free Cash Flow Data'!$F$36-Compare!$C6)/Compare!$C6,4)&"%)"))) -> $ 111.38 (-0.11%)
B7: Stock 4 | C7: SLB | D7: 4545 | E7: =IF(C7="","Please enter a stock ticker in C3",HYPERLINK("https://finance.yahoo.com/quote/"&C7&"/cash-flow/")) -> https://finance.yahoo.com/quote/SLB/cash-flow/ | F7: 0.04 | G7: =IF(D7="","",IF($C$7="","",IF('Free Cash Flow Data'!$F$48<Compare!$C7,"$ "&ROUND('Free Cash Flow Data'!$F$48,2)&" (-"&100*ROUND((Compare!$C7-'Free Cash Flow Data'!$F$48)/Compare!$C7,4)&"%)","$ "&ROUND('Free Cash Flow Data'!$F$48,2)&" (+"&100*ROUND(('Free Cash Flow Data'!$F$48-Compare!$C7)/Compare!$C7,4)&"%)"))) -> $ 48.89 (+0.15%)
B8: Stock 5 | C8: EOG | D8: 5155 | E8: =IF(C8="","Please enter a stock ticker in C3",HYPERLINK("https://finance.yahoo.com/quote/"&C8&"/cash-flow/")) -> https://finance.yahoo.com/quote/EOG/cash-flow/ | F8: -0.005 | G8: =IF(D8="","",IF($C$8="","",IF('Free Cash Flow Data'!$F$60<Compare!$C8,"$ "&ROUND('Free Cash Flow Data'!$F$60,2)&" (-"&100*ROUND((Compare!$C8-'Free Cash Flow Data'!$F$60)/Compare!$C8,4)&"%)","$ "&ROUND('Free Cash Flow Data'!$F$60,2)&" (+"&100*ROUND(('Free Cash Flow Data'!$F$60-Compare!$C8)/Compare!$C8,4)&"%)"))) -> $ 111.81 (-0.05%)
B9: Stock 6 | E9: =IF(C9="","Please enter a stock ticker in C3",HYPERLINK("https://finance.yahoo.com/quote/"&C9&"/cash-flow/")) -> Please enter a stock ticker in C3 | G9: =IF(D9="","",IF($C$9="","",IF('Free Cash Flow Data'!$F$72<Compare!$C9,"$ "&ROUND('Free Cash Flow Data'!$F$72,2)&" (-"&100*ROUND((Compare!$C9-'Free Cash Flow Data'!$F$72)/Compare!$C9,4)&"%)","$ "&ROUND('Free Cash Flow Data'!$F$72,2)&" (+"&100*ROUND(('Free Cash Flow Data'!$F$72-Compare!$C9)/Compare!$C9,4)&"%)")))
B10: Stock 7 | E10: =IF(C10="","Please enter a stock ticker in C3",HYPERLINK("https://finance.yahoo.com/quote/"&C10&"/cash-flow/")) -> Please enter a stock ticker in C3 | G10: =IF(D10="","",IF($C$10="","",IF('Free Cash Flow Data'!$F$84<Compare!$C10,"$ "&ROUND('Free Cash Flow Data'!$F$84,2)&" (-"&100*ROUND((Compare!$C10-'Free Cash Flow Data'!$F$84)/Compare!$C10,4)&"%)","$ "&ROUND('Free Cash Flow Data'!$F$84,2)&" (+"&100*ROUND(('Free Cash Flow Data'!$F$84-Compare!$C10)/Compare!$C10,4)&"%)")))
B11: Stock 8 | E11: =IF(C11="","Please enter a stock ticker in C3",HYPERLINK("https://finance.yahoo.com/quote/"&C11&"/cash-flow/")) -> Please enter a stock ticker in C3 | G11: =IF(D11="","",IF($C$11="","",IF('Free Cash Flow Data'!$F$96<Compare!$C11,"$ "&ROUND('Free Cash Flow Data'!$F$96,2)&" (-"&100*ROUND((Compare!$C11-'Free Cash Flow Data'!$F$96)/Compare!$C11,4)&"%)","$ "&ROUND('Free Cash Flow Data'!$F$96,2)&" (+"&100*ROUND(('Free Cash Flow Data'!$F$96-Compare!$C11)/Compare!$C11,4)&"%)")))
B12: Stock 9 | E12: =IF(C12="","Please enter a stock ticker in C3",HYPERLINK("https://finance.yahoo.com/quote/"&C12&"/cash-flow/")) -> Please enter a stock ticker in C3 | G12: =IF(D12="","",IF($C$12="","",IF('Free Cash Flow Data'!$F$108<Compare!$C12,"$ "&ROUND('Free Cash Flow Data'!$F$108,2)&" (-"&100*ROUND((Compare!$C12-'Free Cash Flow Data'!$F$108)/Compare!$C12,4)&"%)","$ "&ROUND('Free Cash Flow Data'!$F$108,2)&" (+"&100*ROUND(('Free Cash Flow Data'!$F$108-Compare!$C12)/Compare!$C12,4)&"%)")))
B13: Stock 10 | E13: =IF(C13="","Please enter a stock ticker in C3",HYPERLINK("https://finance.yahoo.com/quote/"&C13&"/cash-flow/")) -> Please enter a stock ticker in C3 | G13: =IF(D13="","",IF($C$13="","",IF('Free Cash Flow Data'!$F$120<Compare!$C13,"$ "&ROUND('Free Cash Flow Data'!$F$120,2)&" (-"&100*ROUND((Compare!$C13-'Free Cash Flow Data'!$F$120)/Compare!$C13,4)&"%)","$ "&ROUND('Free Cash Flow Data'!$F$120,2)&" (+"&100*ROUND(('Free Cash Flow Data'!$F$120-Compare!$C13)/Compare!$C13,4)&"%)")))
B16: * if the Free Cash Flow of a company is too volatile over the years, you may consider proxy values (e.g., considering its average, median, etc.)

Sheet Compare
C2: Table C
C3: Stock price | D3: Mkt cap ($ Mln) | E3: Outstanding shares (Mln) | F3: Implied growth rate (5 years) | G3: Implied valuation (and gap from current price) | H3: EPS growth next 5 years | I3: Implied valuation at EPS growth next 5 years (and gap from current price) | J3: EPS growth past 5 years | K3: Implied valuation at EPS growth past 5 years (and gap from current price) | L3: Analysts' target price (and gap from current price)
B4: =IF(Data!C4="","",Data!C4) -> XOM | C4: {=IF(Data!C4="","",_xldudf_OPTIONSAMURAI_STOCK(Data!C4, "stock_last"))} -> 103.84 | D4: {=IF(Data!C4="","",_xldudf_OPTIONSAMURAI_STOCK(Data!C4, "market_cap"))} -> 415024.6 | E4: =IF(Data!C4="","",D4/C4) -> 3996.77 | F4: =IF(Data!C4="","",Data!F4) -> -0.01 | G4: =IF($C$4="","",IF('Free Cash Flow Data'!$F$12<$C$4,"$ "&ROUND('Free Cash Flow Data'!$F$12,2)&" (-"&100*ROUND(($C$4-'Free Cash Flow Data'!$F$12)/$C$4,4)&"%)","$ "&ROUND('Free Cash Flow Data'!$F$12,2)&" (+"&100*ROUND(('Free Cash Flow Data'!$F$12-$C$4)/$C$4,4)&"%)")) -> $ 103.56 (-0.27%) | H4: {=IF(Data!C4="","",_xldudf_OPTIONSAMURAI_STOCK(Data!C4,"eps_growth_next_5y"))} -> -0.1074 | I4: =IFERROR(IF($C$4="","",IF('Free Cash Flow Data'!$K$12<$C$4,"$ "&ROUND('Free Cash Flow Data'!$K$12,2)&" (-"&100*ROUND(($C$4-'Free Cash Flow Data'!$K$12)/$C$4,4)&"%)","$ "&ROUND('Free Cash Flow Data'!$K$12,2)&" (+"&100*ROUND(('Free Cash Flow Data'!$K$12-$C$4)/$C$4,4)&"%)")),"No value") -> $ 66.67 (-35.79%) | J4: {=IF(Data!C4="","",_xldudf_OPTIONSAMURAI_STOCK(Data!C4,"eps_growth_past_5y"))} -> 0.1274 | K4: =IFERROR(IF($C$4="","",IF('Free Cash Flow Data'!$P$12<$C$4,"$ "&ROUND('Free Cash Flow Data'!$P$12,2)&" (-"&100*ROUND(($C$4-'Free Cash Flow Data'!$P$12)/$C$4,4)&"%)","$ "&ROUND('Free Cash Flow Data'!$P$12,2)&" (+"&100*ROUND(('Free Cash Flow Data'!$P$12-$C$4)/$C$4,4)&"%)")),"No value") -> $ 184.35 (+77.53%) | L4: {=IFERROR(IF($C4="","",IF(C4*(1+_xldudf_OPTIONSAMURAI_STOCK(Data!C4,"target_price_percent"))<$C4,"$ "&ROUND(C4*(1+_xldudf_OPTIONSAMURAI_STOCK(Data!C4,"target_price_percent")),2)&" (-"&100*ROUND(($C4-C4*(1+_xldudf_OPTIONSAMURAI_STOCK(Data!C4,"target_price_percent")))/$C4,4)&"%)","$ "&ROUND(C4*(1+_xldudf_OPTIONSAMURAI_STOCK(Data!C4,"target_price_percent")),2)&" (+"&100*ROUND((C4*(1+_xldudf_OPTIONSAMURAI_STOCK(Data!C4,"target_price_percent"))-$C4)/$C4,4)&"%)")),"No value")} -> $ 123.8 (+19.22%)
B5: =IF(Data!C5="","",Data!C5) -> CVX | C5: {=IF(Data!C5="","",_xldudf_OPTIONSAMURAI_STOCK(Data!C5, "stock_last"))} -> 154.66 | D5: {=IF(Data!C5="","",_xldudf_OPTIONSAMURAI_STOCK(Data!C5, "market_cap"))} -> 291077.84 | E5: =IF(Data!C5="","",D5/C5) -> 1882.0499 | F5: =IF(Data!C5="","",Data!F5) -> 0.095 | G5: =IF($C$5="","",IF('Free Cash Flow Data'!$F$24<$C$5,"$ "&ROUND('Free Cash Flow Data'!$F$24,2)&" (-"&100*ROUND(($C$5-'Free Cash Flow Data'!$F$24)/$C$5,4)&"%)","$ "&ROUND('Free Cash Flow Data'!$F$24,2)&" (+"&100*ROUND(('Free Cash Flow Data'!$F$24-$C$5)/$C$5,4)&"%)")) -> $ 155.05 (+0.25%) | H5: {=IF(Data!C5="","",_xldudf_OPTIONSAMURAI_STOCK(Data!C5,"eps_growth_next_5y"))} -> -0.05 | I5: =IFERROR(IF($C$5="","",IF('Free Cash Flow Data'!$K$24<$C$5,"$ "&ROUND('Free Cash Flow Data'!$K$24,2)&" (-"&100*ROUND(($C$5-'Free Cash Flow Data'!$K$24)/$C$5,4)&"%)","$ "&ROUND('Free Cash Flow Data'!$K$24,2)&" (+"&100*ROUND(('Free Cash Flow Data'!$K$24-$C$5)/$C$5,4)&"%)")), "No value") -> $ 83.16 (-46.23%) | J5: {=IF(Data!C5="","",_xldudf_OPTIONSAMURAI_STOCK(Data!C5,"eps_growth_past_5y"))} -> 0.0796 | K5: =IFERROR(IF($C$5="","",IF('Free Cash Flow Data'!$P$24<$C$5,"$ "&ROUND('Free Cash Flow Data'!$P$24,2)&" (-"&100*ROUND(($C$5-'Free Cash Flow Data'!$P$24)/$C$5,4)&"%)","$ "&ROUND('Free Cash Flow Data'!$P$24,2)&" (+"&100*ROUND(('Free Cash Flow Data'!$P$24-$C$5)/$C$5,4)&"%)")), "No value") -> $ 145.52 (-5.91%) | L5: {=IFERROR(IF($C5="","",IF(C5*(1+_xldudf_OPTIONSAMURAI_STOCK(Data!C5,"target_price_percent"))<$C5,"$ "&ROUND(C5*(1+_xldudf_OPTIONSAMURAI_STOCK(Data!C5,"target_price_percent")),2)&" (-"&100*ROUND(($C5-C5*(1+_xldudf_OPTIONSAMURAI_STOCK(Data!C5,"target_price_percent")))/$C5,4)&"%)","$ "&ROUND(C5*(1+_xldudf_OPTIONSAMURAI_STOCK(Data!C5,"target_price_percent")),2)&" (+"&100*ROUND((C5*(1+_xldudf_OPTIONSAMURAI_STOCK(Data!C5,"target_price_percent"))-$C5)/$C5,4)&"%)")),"No value")} -> $ 177.65 (+14.86%)
B6: =IF(Data!C6="","",Data!C6) -> COP | C6: {=IF(Data!C6="","",_xldudf_OPTIONSAMURAI_STOCK(Data!C6, "stock_last"))} -> 111.51 | D6: {=IF(Data!C6="","",_xldudf_OPTIONSAMURAI_STOCK(Data!C6, "market_cap"))} -> 131181.48 | E6: =IF(Data!C6="","",D6/C6) -> 1176.41 | F6: =IF(Data!C6="","",Data!F6) -> 0.035 | G6: =IF($C$6="","",IF('Free Cash Flow Data'!$F$36<$C$6,"$ "&ROUND('Free Cash Flow Data'!$F$36,2)&" (-"&100*ROUND(($C$6-'Free Cash Flow Data'!$F$36)/$C$6,4)&"%)","$ "&ROUND('Free Cash Flow Data'!$F$36,2)&" (+"&100*ROUND(('Free Cash Flow Data'!$F$36-$C$6)/$C$6,4)&"%)")) -> $ 111.38 (-0.11%) | H6: {=IF(Data!C6="","",_xldudf_OPTIONSAMURAI_STOCK(Data!C6,"eps_growth_next_5y"))} -> -0.1012 | I6: =IFERROR(IF($C$6="","",IF('Free Cash Flow Data'!$K$36<$C$6,"$ "&ROUND('Free Cash Flow Data'!$K$36,2)&" (-"&100*ROUND(($C$6-'Free Cash Flow Data'!$K$36)/$C$6,4)&"%)","$ "&ROUND('Free Cash Flow Data'!$K$36,2)&" (+"&100*ROUND(('Free Cash Flow Data'!$K$36-$C$6)/$C$6,4)&"%)")),"No value") -> $ 60.76 (-45.52%) | J6: {=IF(Data!C6="","",_xldudf_OPTIONSAMURAI_STOCK(Data!C6,"eps_growth_past_5y"))} -> 0.1122 | K6: =IFERROR(IF($C$6="","",IF('Free Cash Flow Data'!$P$36<$C$6,"$ "&ROUND('Free Cash Flow Data'!$P$36,2)&" (-"&100*ROUND(($C$6-'Free Cash Flow Data'!$P$36)/$C$6,4)&"%)","$ "&ROUND('Free Cash Flow Data'!$P$36,2)&" (+"&100*ROUND(('Free Cash Flow Data'!$P$36-$C$6)/$C$6,4)&"%)")),"No value") -> $ 153.51 (+37.67%) | L6: {=IFERROR(IF($C6="","",IF(C6*(1+_xldudf_OPTIONSAMURAI_STOCK(Data!C6,"target_price_percent"))<$C6,"$ "&ROUND(C6*(1+_xldudf_OPTIONSAMURAI_STOCK(Data!C6,"target_price_percent")),2)&" (-"&100*ROUND(($C6-C6*(1+_xldudf_OPTIONSAMURAI_STOCK(Data!C6,"target_price_percent")))/$C6,4)&"%)","$ "&ROUND(C6*(1+_xldudf_OPTIONSAMURAI_STOCK(Data!C6,"target_price_percent")),2)&" (+"&100*ROUND((C6*(1+_xldudf_OPTIONSAMURAI_STOCK(Data!C6,"target_price_percent"))-$C6)/$C6,4)&"%)")),"No value")} -> $ 136.14 (+22.09%)
B7: =IF(Data!C7="","",Data!C7) -> SLB | C7: {=IF(Data!C7="","",_xldudf_OPTIONSAMURAI_STOCK(Data!C7, "stock_last"))} -> 48.82 | D7: {=IF(Data!C7="","",_xldudf_OPTIONSAMURAI_STOCK(Data!C7, "market_cap"))} -> 69685.18 | E7: =IF(Data!C7="","",D7/C7) -> 1427.39 | F7: =IF(Data!C7="","",Data!F7) -> 0.04 | G7: =IF($C$7="","",IF('Free Cash Flow Data'!$F$48<$C$7,"$ "&ROUND('Free Cash Flow Data'!$F$48,2)&" (-"&100*ROUND(($C$7-'Free Cash Flow Data'!$F$48)/$C$7,4)&"%)","$ "&ROUND('Free Cash Flow Data'!$F$48,2)&" (+"&100*ROUND(('Free Cash Flow Data'!$F$48-$C$7)/$C$7,4)&"%)")) -> $ 48.89 (+0.15%) | H7: {=IF(Data!C7="","",_xldudf_OPTIONSAMURAI_STOCK(Data!C7,"eps_growth_next_5y"))} -> 0.197 | I7: =IFERROR(IF($C$7="","",IF('Free Cash Flow Data'!$K$48<$C$7,"$ "&ROUND('Free Cash Flow Data'!$K$48,2)&" (-"&100*ROUND(($C$7-'Free Cash Flow Data'!$K$48)/$C$7,4)&"%)","$ "&ROUND('Free Cash Flow Data'!$K$48,2)&" (+"&100*ROUND(('Free Cash Flow Data'!$K$48-$C$7)/$C$7,4)&"%)")),"No value") -> $ 92.15 (+88.76%) | J7: {=IF(Data!C7="","",_xldudf_OPTIONSAMURAI_STOCK(Data!C7,"eps_growth_past_5y"))} -> 0.1374 | K7: =IFERROR(IF($C$7="","",IF('Free Cash Flow Data'!$P$48<$C$7,"$ "&ROUND('Free Cash Flow Data'!$P$48,2)&" (-"&100*ROUND(($C$7-'Free Cash Flow Data'!$P$48)/$C$7,4)&"%)","$ "&ROUND('Free Cash Flow Data'!$P$48,2)&" (+"&100*ROUND(('Free Cash Flow Data'!$P$48-$C$7)/$C$7,4)&"%)")),"No value") -> $ 73 (+49.52%) | L7: {=IFERROR(IF($C7="","",IF(C7*(1+_xldudf_OPTIONSAMURAI_STOCK(Data!C7,"target_price_percent"))<$C7,"$ "&ROUND(C7*(1+_xldudf_OPTIONSAMURAI_STOCK(Data!C7,"target_price_percent")),2)&" (-"&100*ROUND(($C7-C7*(1+_xldudf_OPTIONSAMURAI_STOCK(Data!C7,"target_price_percent")))/$C7,4)&"%)","$ "&ROUND(C7*(1+_xldudf_OPTIONSAMURAI_STOCK(Data!C7,"target_price_percent")),2)&" (+"&100*ROUND((C7*(1+_xldudf_OPTIONSAMURAI_STOCK(Data!C7,"target_price_percent"))-$C7)/$C7,4)&"%)")),"No value")} -> $ 68.11 (+39.51%)
B8: =IF(Data!C8="","",Data!C8) -> EOG | C8: {=IF(Data!C8="","",_xldudf_OPTIONSAMURAI_STOCK(Data!C8, "stock_last"))} -> 111.86 | D8: {=IF(Data!C8="","",_xldudf_OPTIONSAMURAI_STOCK(Data!C8, "market_cap"))} -> 65231.16 | E8: =IF(Data!C8="","",D8/C8) -> 583.15001 | F8: =IF(Data!C8="","",Data!F8) -> -0.005 | G8: =IF($C$8="","",IF('Free Cash Flow Data'!$F$60<$C$8,"$ "&ROUND('Free Cash Flow Data'!$F$60,2)&" (-"&100*ROUND(($C$8-'Free Cash Flow Data'!$F$60)/$C$8,4)&"%)","$ "&ROUND('Free Cash Flow Data'!$F$60,2)&" (+"&100*ROUND(('Free Cash Flow Data'!$F$60-$C$8)/$C$8,4)&"%)")) -> $ 111.81 (-0.05%) | H8: {=IF(Data!C8="","",_xldudf_OPTIONSAMURAI_STOCK(Data!C8,"eps_growth_next_5y"))} -> 0.549 | I8: =IFERROR(IF($C$8="","",IF('Free Cash Flow Data'!$K$60<$C$8,"$ "&ROUND('Free Cash Flow Data'!$K$60,2)&" (-"&100*ROUND(($C$8-'Free Cash Flow Data'!$K$60)/$C$8,4)&"%)","$ "&ROUND('Free Cash Flow Data'!$K$60,2)&" (+"&100*ROUND(('Free Cash Flow Data'!$K$60-$C$8)/$C$8,4)&"%)")),"No value") -> $ 858.62 (+667.58%) | J8: {=IF(Data!C8="","",_xldudf_OPTIONSAMURAI_STOCK(Data!C8,"eps_growth_past_5y"))} -> 0.1715 | K8: =IFERROR(IF($C$8="","",IF('Free Cash Flow Data'!$P$60<$C$8,"$ "&ROUND('Free Cash Flow Data'!$P$60,2)&" (-"&100*ROUND(($C$8-'Free Cash Flow Data'!$P$60)/$C$8,4)&"%)","$ "&ROUND('Free Cash Flow Data'!$P$60,2)&" (+"&100*ROUND(('Free Cash Flow Data'!$P$60-$C$8)/$C$8,4)&"%)")),"No value") -> $ 231.81 (+107.24%) | L8: {=IFERROR(IF($C8="","",IF(C8*(1+_xldudf_OPTIONSAMURAI_STOCK(Data!C8,"target_price_percent"))<$C8,"$ "&ROUND(C8*(1+_xldudf_OPTIONSAMURAI_STOCK(Data!C8,"target_price_percent")),2)&" (-"&100*ROUND(($C8-C8*(1+_xldudf_OPTIONSAMURAI_STOCK(Data!C8,"target_price_percent")))/$C8,4)&"%)","$ "&ROUND(C8*(1+_xldudf_OPTIONSAMURAI_STOCK(Data!C8,"target_price_percent")),2)&" (+"&100*ROUND((C8*(1+_xldudf_OPTIONSAMURAI_STOCK(Data!C8,"target_price_percent"))-$C8)/$C8,4)&"%)")),"No value")} -> $ 140.12 (+25.26%)
B9: =IF(Data!C9="","",Data!C9) | C9: {=IF(Data!C9="","",_xldudf_OPTIONSAMURAI_STOCK(Data!C9, "stock_last"))} | D9: {=IF(Data!C9="","",_xldudf_OPTIONSAMURAI_STOCK(Data!C9, "market_cap"))} | E9: =IF(Data!C9="","",D9/C9) | F9: =IF(Data!C9="","",Data!F9) | G9: =IF($C$9="","",IF('Free Cash Flow Data'!$F$72<$C$9,"$ "&ROUND('Free Cash Flow Data'!$F$72,2)&" (-"&100*ROUND(($C$9-'Free Cash Flow Data'!$F$72)/$C$9,4)&"%)","$ "&ROUND('Free Cash Flow Data'!$F$72,2)&" (+"&100*ROUND(('Free Cash Flow Data'!$F$72-$C$9)/$C$9,4)&"%)")) | H9: {=IF(Data!C9="","",_xldudf_OPTIONSAMURAI_STOCK(Data!C9,"eps_growth_next_5y"))} | I9: =IFERROR(IF($C$9="","",IF('Free Cash Flow Data'!$K$72<$C$9,"$ "&ROUND('Free Cash Flow Data'!$K$72,2)&" (-"&100*ROUND(($C$9-'Free Cash Flow Data'!$K$72)/$C$9,4)&"%)","$ "&ROUND('Free Cash Flow Data'!$K$72,2)&" (+"&100*ROUND(('Free Cash Flow Data'!$K$72-$C$9)/$C$9,4)&"%)")),"No value") | J9: {=IF(Data!C9="","",_xldudf_OPTIONSAMURAI_STOCK(Data!C9,"eps_growth_past_5y"))} | K9: =IFERROR(IF($C$9="","",IF('Free Cash Flow Data'!$P$72<$C$9,"$ "&ROUND('Free Cash Flow Data'!$P$72,2)&" (-"&100*ROUND(($C$9-'Free Cash Flow Data'!$P$72)/$C$9,4)&"%)","$ "&ROUND('Free Cash Flow Data'!$P$72,2)&" (+"&100*ROUND(('Free Cash Flow Data'!$P$72-$C$9)/$C$9,4)&"%)")),"No value") | L9: {=IFERROR(IF($C9="","",IF(C9*(1+_xldudf_OPTIONSAMURAI_STOCK(Data!C9,"target_price_percent"))<$C9,"$ "&ROUND(C9*(1+_xldudf_OPTIONSAMURAI_STOCK(Data!C9,"target_price_percent")),2)&" (-"&100*ROUND(($C9-C9*(1+_xldudf_OPTIONSAMURAI_STOCK(Data!C9,"target_price_percent")))/$C9,4)&"%)","$ "&ROUND(C9*(1+_xldudf_OPTIONSAMURAI_STOCK(Data!C9,"target_price_percent")),2)&" (+"&100*ROUND((C9*(1+_xldudf_OPTIONSAMURAI_STOCK(Data!C9,"target_price_percent"))-$C9)/$C9,4)&"%)")),"No value")}
B10: =IF(Data!C10="","",Data!C10) | C10: {=IF(Data!C10="","",_xldudf_OPTIONSAMURAI_STOCK(Data!C10, "stock_last"))} | D10: {=IF(Data!C10="","",_xldudf_OPTIONSAMURAI_STOCK(Data!C10, "market_cap"))} | E10: =IF(Data!C10="","",D10/C10) | F10: =IF(Data!C10="","",Data!F10) | G10: =IF($C$10="","",IF('Free Cash Flow Data'!$F$84<$C$10,"$ "&ROUND('Free Cash Flow Data'!$F$84,2)&" (-"&100*ROUND(($C$10-'Free Cash Flow Data'!$F$84)/$C$10,4)&"%)","$ "&ROUND('Free Cash Flow Data'!$F$84,2)&" (+"&100*ROUND(('Free Cash Flow Data'!$F$84-$C$10)/$C$10,4)&"%)")) | H10: {=IF(Data!C10="","",_xldudf_OPTIONSAMURAI_STOCK(Data!C10,"eps_growth_next_5y"))} | I10: =IFERROR(IF($C$10="","",IF('Free Cash Flow Data'!$K$84<$C$10,"$ "&ROUND('Free Cash Flow Data'!$K$84,2)&" (-"&100*ROUND(($C$10-'Free Cash Flow Data'!$K$84)/$C$10,4)&"%)","$ "&ROUND('Free Cash Flow Data'!$K$84,2)&" (+"&100*ROUND(('Free Cash Flow Data'!$K$84-$C$10)/$C$10,4)&"%)")),"No value") | J10: {=IF(Data!C10="","",_xldudf_OPTIONSAMURAI_STOCK(Data!C10,"eps_growth_past_5y"))} | K10: =IFERROR(IF($C$10="","",IF('Free Cash Flow Data'!$P$84<$C$10,"$ "&ROUND('Free Cash Flow Data'!$P$84,2)&" (-"&100*ROUND(($C$10-'Free Cash Flow Data'!$P$84)/$C$10,4)&"%)","$ "&ROUND('Free Cash Flow Data'!$P$84,2)&" (+"&100*ROUND(('Free Cash Flow Data'!$P$84-$C$10)/$C$10,4)&"%)")),"No value") | L10: {=IFERROR(IF($C10="","",IF(C10*(1+_xldudf_OPTIONSAMURAI_STOCK(Data!C10,"target_price_percent"))<$C10,"$ "&ROUND(C10*(1+_xldudf_OPTIONSAMURAI_STOCK(Data!C10,"target_price_percent")),2)&" (-"&100*ROUND(($C10-C10*(1+_xldudf_OPTIONSAMURAI_STOCK(Data!C10,"target_price_percent")))/$C10,4)&"%)","$ "&ROUND(C10*(1+_xldudf_OPTIONSAMURAI_STOCK(Data!C10,"target_price_percent")),2)&" (+"&100*ROUND((C10*(1+_xldudf_OPTIONSAMURAI_STOCK(Data!C10,"target_price_percent"))-$C10)/$C10,4)&"%)")),"No value")}
B11: =IF(Data!C11="","",Data!C11) | C11: {=IF(Data!C11="","",_xldudf_OPTIONSAMURAI_STOCK(Data!C11, "stock_last"))} | D11: {=IF(Data!C11="","",_xldudf_OPTIONSAMURAI_STOCK(Data!C11, "market_cap"))} | E11: =IF(Data!C11="","",D11/C11) | F11: =IF(Data!C11="","",Data!F11) | G11: =IF($C$11="","",IF('Free Cash Flow Data'!$F$96<$C$11,"$ "&ROUND('Free Cash Flow Data'!$F$96,2)&" (-"&100*ROUND(($C$11-'Free Cash Flow Data'!$F$96)/$C$11,4)&"%)","$ "&ROUND('Free Cash Flow Data'!$F$96,2)&" (+"&100*ROUND(('Free Cash Flow Data'!$F$96-$C$11)/$C$11,4)&"%)")) | H11: {=IF(Data!C11="","",_xldudf_OPTIONSAMURAI_STOCK(Data!C11,"eps_growth_next_5y"))} | I11: =IFERROR(IF($C$11="","",IF('Free Cash Flow Data'!$K$96<$C$11,"$ "&ROUND('Free Cash Flow Data'!$K$96,2)&" (-"&100*ROUND(($C$11-'Free Cash Flow Data'!$K$96)/$C$11,4)&"%)","$ "&ROUND('Free Cash Flow Data'!$K$96,2)&" (+"&100*ROUND(('Free Cash Flow Data'!$K$96-$C$11)/$C$11,4)&"%)")),"No value") | J11: {=IF(Data!C11="","",_xldudf_OPTIONSAMURAI_STOCK(Data!C11,"eps_growth_past_5y"))} | K11: =IFERROR(IF($C$11="","",IF('Free Cash Flow Data'!$P$96<$C$11,"$ "&ROUND('Free Cash Flow Data'!$P$96,2)&" (-"&100*ROUND(($C$11-'Free Cash Flow Data'!$P$96)/$C$11,4)&"%)","$ "&ROUND('Free Cash Flow Data'!$P$96,2)&" (+"&100*ROUND(('Free Cash Flow Data'!$P$96-$C$11)/$C$11,4)&"%)")),"No value") | L11: {=IFERROR(IF($C11="","",IF(C11*(1+_xldudf_OPTIONSAMURAI_STOCK(Data!C11,"target_price_percent"))<$C11,"$ "&ROUND(C11*(1+_xldudf_OPTIONSAMURAI_STOCK(Data!C11,"target_price_percent")),2)&" (-"&100*ROUND(($C11-C11*(1+_xldudf_OPTIONSAMURAI_STOCK(Data!C11,"target_price_percent")))/$C11,4)&"%)","$ "&ROUND(C11*(1+_xldudf_OPTIONSAMURAI_STOCK(Data!C11,"target_price_percent")),2)&" (+"&100*ROUND((C11*(1+_xldudf_OPTIONSAMURAI_STOCK(Data!C11,"target_price_percent"))-$C11)/$C11,4)&"%)")),"No value")}
B12: =IF(Data!C12="","",Data!C12) | C12: {=IF(Data!C12="","",_xldudf_OPTIONSAMURAI_STOCK(Data!C12, "stock_last"))} | D12: {=IF(Data!C12="","",_xldudf_OPTIONSAMURAI_STOCK(Data!C12, "market_cap"))} | E12: =IF(Data!C12="","",D12/C12) | F12: =IF(Data!C12="","",Data!F12) | G12: =IF($C$12="","",IF('Free Cash Flow Data'!$F$108<$C$12,"$ "&ROUND('Free Cash Flow Data'!$F$108,2)&" (-"&100*ROUND(($C$12-'Free Cash Flow Data'!$F$108)/$C$12,4)&"%)","$ "&ROUND('Free Cash Flow Data'!$F$108,2)&" (+"&100*ROUND(('Free Cash Flow Data'!$F$108-$C$12)/$C$12,4)&"%)")) | H12: {=IF(Data!C12="","",_xldudf_OPTIONSAMURAI_STOCK(Data!C12,"eps_growth_next_5y"))} | I12: =IFERROR(IF($C$12="","",IF('Free Cash Flow Data'!$K$108<$C$12,"$ "&ROUND('Free Cash Flow Data'!$K$108,2)&" (-"&100*ROUND(($C$12-'Free Cash Flow Data'!$K$108)/$C$12,4)&"%)","$ "&ROUND('Free Cash Flow Data'!$K$108,2)&" (+"&100*ROUND(('Free Cash Flow Data'!$K$108-$C$12)/$C$12,4)&"%)")),"No value") | J12: {=IF(Data!C12="","",_xldudf_OPTIONSAMURAI_STOCK(Data!C12,"eps_growth_past_5y"))} | K12: =IFERROR(IF($C$12="","",IF('Free Cash Flow Data'!$P$108<$C$12,"$ "&ROUND('Free Cash Flow Data'!$P$108,2)&" (-"&100*ROUND(($C$12-'Free Cash Flow Data'!$P$108)/$C$12,4)&"%)","$ "&ROUND('Free Cash Flow Data'!$P$108,2)&" (+"&100*ROUND(('Free Cash Flow Data'!$P$108-$C$12)/$C$12,4)&"%)")),"No value") | L12: {=IFERROR(IF($C12="","",IF(C12*(1+_xldudf_OPTIONSAMURAI_STOCK(Data!C12,"target_price_percent"))<$C12,"$ "&ROUND(C12*(1+_xldudf_OPTIONSAMURAI_STOCK(Data!C12,"target_price_percent")),2)&" (-"&100*ROUND(($C12-C12*(1+_xldudf_OPTIONSAMURAI_STOCK(Data!C12,"target_price_percent")))/$C12,4)&"%)","$ "&ROUND(C12*(1+_xldudf_OPTIONSAMURAI_STOCK(Data!C12,"target_price_percent")),2)&" (+"&100*ROUND((C12*(1+_xldudf_OPTIONSAMURAI_STOCK(Data!C12,"target_price_percent"))-$C12)/$C12,4)&"%)")),"No value")}
B13: =IF(Data!C13="","",Data!C13) | C13: {=IF(Data!C13="","",_xldudf_OPTIONSAMURAI_STOCK(Data!C13, "stock_last"))} | D13: {=IF(Data!C13="","",_xldudf_OPTIONSAMURAI_STOCK(Data!C13, "market_cap"))} | E13: =IF(Data!C13="","",D13/C13) | F13: =IF(Data!C13="","",Data!F13) | G13: =IF($C$13="","",IF('Free Cash Flow Data'!$F$120<$C$13,"$ "&ROUND('Free Cash Flow Data'!$F$120,2)&" (-"&100*ROUND(($C$13-'Free Cash Flow Data'!$F$120)/$C$13,4)&"%)","$ "&ROUND('Free Cash Flow Data'!$F$120,2)&" (+"&100*ROUND(('Free Cash Flow Data'!$F$120-$C$13)/$C$13,4)&"%)")) | H13: {=IF(Data!C13="","",_xldudf_OPTIONSAMURAI_STOCK(Data!C13,"eps_growth_next_5y"))} | I13: =IF($C$13="","",IF('Free Cash Flow Data'!$K$120<$C$13,"$ "&ROUND('Free Cash Flow Data'!$K$120,2)&" (-"&100*ROUND(($C$13-'Free Cash Flow Data'!$K$120)/$C$13,4)&"%)","$ "&ROUND('Free Cash Flow Data'!$K$120,2)&" (+"&100*ROUND(('Free Cash Flow Data'!$K$120-$C$13)/$C$13,4)&"%)")) | J13: {=IF(Data!C13="","",_xldudf_OPTIONSAMURAI_STOCK(Data!C13,"eps_growth_past_5y"))} | K13: =IF($C$13="","",IF('Free Cash Flow Data'!$P$120<$C$13,"$ "&ROUND('Free Cash Flow Data'!$P$120,2)&" (-"&100*ROUND(($C$13-'Free Cash Flow Data'!$P$120)/$C$13,4)&"%)","$ "&ROUND('Free Cash Flow Data'!$P$120,2)&" (+"&100*ROUND(('Free Cash Flow Data'!$P$120-$C$13)/$C$13,4)&"%)")) | L13: {=IFERROR(IF($C13="","",IF(C13*(1+_xldudf_OPTIONSAMURAI_STOCK(Data!C13,"target_price_percent"))<$C13,"$ "&ROUND(C13*(1+_xldudf_OPTIONSAMURAI_STOCK(Data!C13,"target_price_percent")),2)&" (-"&100*ROUND(($C13-C13*(1+_xldudf_OPTIONSAMURAI_STOCK(Data!C13,"target_price_percent")))/$C13,4)&"%)","$ "&ROUND(C13*(1+_xldudf_OPTIONSAMURAI_STOCK(Data!C13,"target_price_percent")),2)&" (+"&100*ROUND((C13*(1+_xldudf_OPTIONSAMURAI_STOCK(Data!C13,"target_price_percent"))-$C13)/$C13,4)&"%)")),"No value")}

Sheet Free Cash Flow Data
B2: =IF(Data!C4="","",Data!C4) -> XOM | C2: Table E.1 a | H2: Table E.2 a | M2: Table E.3 a
C3: Free cash flow data with user's assumed growth rate | H3: Free cash flow data with EPS growth next 5 years | M3: Free cash flow data with EPS growth past 5 years
C4: Year | D4: Free cash flow | E4: Assumed growth | F4: Discounted value | H4: Year | I4: Free cash flow | J4: Assumed growth | K4: Discounted value | M4: Year | N4: Free cash flow | O4: Assumed growth | P4: Discounted value
C5: 1 | D5: =(Data!D4*Data!F4)+Data!D4 -> 33115.5 | E5: =Data!$F$4 -> -0.01 | F5: =D5/((1+Data!$K$4)^C5) -> 30105 | H5: 1 | I5: =(Data!D4*Compare!H4)+Data!D4 -> 29857.47 | J5: =Compare!$H$4 -> -0.1074 | K5: =I5/((1+Data!$K$4)^H5) -> 27143.155 | M5: 1 | N5: =(Data!D4*Compare!J4)+Data!D4 -> 37711.53 | O5: =Compare!$J$4 -> 0.1274 | P5: =N5/((1+Data!$K$4)^M5) -> 34283.209
C6: 2 | D6: =(D5*E6)+D5 -> 32784.345 | E6: =Data!$F$4 -> -0.01 | F6: =D6/((1+Data!$K$4)^C6) -> 27094.5 | H6: 2 | I6: =(I5*J6)+I5 -> 26650.778 | J6: =Compare!$H$4 -> -0.1074 | K6: =I6/((1+Data!$K$4)^H6) -> 22025.436 | M6: 2 | N6: =(N5*O6)+N5 -> 42515.979 | O6: =Compare!$J$4 -> 0.1274 | P6: =N6/((1+Data!$K$4)^M6) -> 35137.173
C7: 3 | D7: =(D6*E7)+D6 -> 32456.502 | E7: =Data!$F$4 -> -0.01 | F7: =D7/((1+Data!$K$4)^C7) -> 24385.05 | H7: 3 | I7: =(I6*J7)+I6 -> 23788.484 | J7: =Compare!$H$4 -> -0.1074 | K7: =I7/((1+Data!$K$4)^H7) -> 17872.64 | M7: 3 | N7: =(N6*O7)+N6 -> 47932.515 | O7: =Compare!$J$4 -> 0.1274 | P7: =N7/((1+Data!$K$4)^M7) -> 36012.408
C8: 4 | D8: =(D7*E8)+D7 -> 32131.937 | E8: =Data!$F$4 -> -0.01 | F8: =D8/((1+Data!$K$4)^C8) -> 21946.545 | H8: 4 | I8: =(I7*J8)+I7 -> 21233.601 | J8: =Compare!$H$4 -> -0.1074 | K8: =I8/((1+Data!$K$4)^H8) -> 14502.835 | M8: 4 | N8: =(N7*O8)+N7 -> 54039.117 | O8: =Compare!$J$4 -> 0.1274 | P8: =N8/((1+Data!$K$4)^M8) -> 36909.444
C9: 5 | D9: =(D8*E9)+D8 -> 31810.617 | E9: =Data!$F$4 -> -0.01 | F9: =D9/((1+Data!$K$4)^C9) -> 19751.89 | H9: 5 | I9: =(I8*J9)+I8 -> 18953.112 | J9: =Compare!$H$4 -> -0.1074 | K9: =I9/((1+Data!$K$4)^H9) -> 11768.392 | M9: 5 | N9: =(N8*O9)+N8 -> 60923.701 | O9: =Compare!$J$4 -> 0.1274 | P9: =N9/((1+Data!$K$4)^M9) -> 37828.825
C10: Terminal year | D10: =(D9*Data!$K$3)+D9 -> 32764.936 | E10: Present value | F10: =SUM(F5:F9) -> 123282.99 | H10: Terminal year | I10: =(I9*Data!$K$3)+I9 -> 19521.706 | J10: Present value | K10: =SUM(K5:K9) -> 93312.458 | M10: Terminal year | N10: =(N9*Data!$K$3)+N9 -> 62751.412 | O10: Present value | P10: =SUM(P5:P9) -> 180171.06
C11: Discounted terminal value | D11: =((D10)/(Data!$K$4-Data!$K$3))/(1+Data!$K$4)^C9 -> 290634.96 | E11: Number of shares (millions) | F11: =Compare!$E$4 -> 3996.77 | H11: Discounted terminal value | I11: =((I10)/(Data!$K$4-Data!$K$3))/(1+Data!$K$4)^H9 -> 173163.48 | J11: Number of shares (millions) | K11: =Compare!$E$4 -> 3996.77 | M11: Discounted terminal value | N11: =((N10)/(Data!$K$4-Data!$K$3))/(1+Data!$K$4)^M9 -> 556624.14 | O11: Number of shares (millions) | P11: =Compare!$E$4 -> 3996.77
C12: Total Present Value of Cash Flows | D12: =F10+D11 -> 413917.95 | E12: Estimated intrinsic value | F12: =D12/F11 -> 103.56311 | H12: Total Present Value of Cash Flows | I12: =K10+I11 -> 266475.93 | J12: Estimated intrinsic value | K12: =I12/K11 -> 66.672821 | M12: Total Present Value of Cash Flows | N12: =P10+N11 -> 736795.19 | O12: Estimated intrinsic value | P12: =N12/P11 -> 184.34766
B14: =IF(Data!C5="","",Data!C5) -> CVX | C14: Table E.1 b | H14: Table E.2 b | M14: Table E.3 b
C15: Free cash flow data with user's assumed growth rate | H15: Free cash flow data with EPS growth next 5 years | M15: Free cash flow data with EPS growth past 5 years
C16: Year | D16: Free cash flow | E16: Assumed growth | F16: Discounted value
C17: 1 | D17: =(Data!D5*Data!F5)+Data!D5 -> 16543.26 | E17: =Data!$F$5 -> 0.095 | F17: =D17/((1+Data!$K$4)^C17) -> 15039.327 | H17: 1 | I17: =(Data!D5*Compare!H5)+Data!D5 -> 14352.6 | J17: =Compare!$H$5 -> -0.05 | K17: =I17/((1+Data!$K$4)^H17) -> 13047.818 | M17: 1 | N17: =(Data!D5*Compare!J5)+Data!D5 -> 16310.597 | O17: =Compare!$J$5 -> 0.0796 | P17: =N17/((1+Data!$K$4)^M17) -> 14827.815
C18: 2 | D18: =(D17*E18)+D17 -> 18114.87 | E18: =Data!$F$5 -> 0.095 | F18: =D18/((1+Data!$K$4)^C18) -> 14970.967 | H18: 2 | I18: =(I17*J18)+I17 -> 13634.97 | J18: =Compare!$H$5 -> -0.05 | K18: =I18/((1+Data!$K$4)^H18) -> 11268.57 | M18: 2 | N18: =(N17*O18)+N17 -> 17608.92 | O18: =Compare!$J$5 -> 0.0796 | P18: =N18/((1+Data!$K$4)^M18) -> 14552.827
C19: 3 | D19: =(D18*E19)+D18 -> 19835.782 | E19: =Data!$F$5 -> 0.095 | F19: =D19/((1+Data!$K$4)^C19) -> 14902.917 | H19: 3 | I19: =(I18*J19)+I18 -> 12953.222 | J19: =Compare!$H$5 -> -0.05 | K19: =I19/((1+Data!$K$4)^H19) -> 9731.947 | M19: 3 | N19: =(N18*O19)+N18 -> 19010.59 | O19: =Compare!$J$5 -> 0.0796 | P19: =N19/((1+Data!$K$4)^M19) -> 14282.938
C20: 4 | D20: =(D19*E20)+D19 -> 21720.182 | E20: =Data!$F$5 -> 0.095 | F20: =D20/((1+Data!$K$4)^C20) -> 14835.176 | H20: 4 | I20: =(I19*J20)+I19 -> 12305.56 | J20: =Compare!$H$5 -> -0.05 | K20: =I20/((1+Data!$K$4)^H20) -> 8404.8633 | M20: 4 | N20: =(N19*O20)+N19 -> 20523.833 | O20: =Compare!$J$5 -> 0.0796 | P20: =N20/((1+Data!$K$4)^M20) -> 14018.054
C21: 5 | D21: =(D20*E21)+D20 -> 23783.599 | E21: =Data!$F$5 -> 0.095 | F21: =D21/((1+Data!$K$4)^C21) -> 14767.744 | H21: 5 | I21: =(I20*J21)+I20 -> 11690.282 | J21: =Compare!$H$5 -> -0.05 | K21: =I21/((1+Data!$K$4)^H21) -> 7258.7456 | M21: 5 | N21: =(N20*O21)+N20 -> 22157.53 | O21: =Compare!$J$5 -> 0.0796 | P21: =N21/((1+Data!$K$4)^M21) -> 13758.083
C22: Terminal year | D22: =(D21*Data!$K$3)+D21 -> 24497.107 | E22: Present value | F22: =SUM(F17:F21) -> 74516.131 | H22: Terminal year | I22: =(I21*Data!$K$3)+I21 -> 12040.991 | J22: Present value | K22: =SUM(K17:K21) -> 49711.944 | M22: Terminal year | N22: =(N21*Data!$K$3)+N21 -> 22822.256 | O22: Present value | P22: =SUM(P17:P21) -> 71439.717
C23: Discounted terminal value | D23: =((D22)/(Data!$K$4-Data!$K$3))/(1+Data!$K$4)^C21 -> 217296.8 | E23: Number of shares (millions) | F23: =Compare!$E$5 -> 1882.0499 | H23: Discounted terminal value | I23: =((I22)/(Data!$K$4-Data!$K$3))/(1+Data!$K$4)^H21 -> 106807.26 | J23: Number of shares (millions) | K23: =Compare!$E$5 -> 1882.0499 | M23: Discounted terminal value | N23: =((N22)/(Data!$K$4-Data!$K$3))/(1+Data!$K$4)^M21 -> 202440.37 | O23: Number of shares (millions) | P23: =Compare!$E$5 -> 1882.0499
C24: Total Present Value of Cash Flows | D24: =F22+D23 -> 291812.93 | E24: Estimated intrinsic value | F24: =D24/F23 -> 155.05058 | H24: Total Present Value of Cash Flows | I24: =K22+I23 -> 156519.2 | J24: Estimated intrinsic value | K24: =I24/K23 -> 83.164214 | M24: Total Present Value of Cash Flows | N24: =P22+N23 -> 273880.08 | O24: Estimated intrinsic value | P24: =N24/P23 -> 145.52222
B26: =IF(Data!C6="","",Data!C6) -> COP | C26: Table E.1 c | H26: Table E.2 c | M26: Table E.3 c
C27: Free cash flow data with user's assumed growth rate | H27: Free cash flow data with EPS growth next 5 years | M27: Free cash flow data with EPS growth past 5 years
C28: Year | D28: Free cash flow | E28: Assumed growth | F28: Discounted value
C29: 1 | D29: =(Data!D6*Data!F6)+Data!D6 -> 9022.095 | E29: =Data!$F$6 -> 0.035 | F29: =D29/((1+Data!$K$4)^C29) -> 8201.9045 | H29: 1 | I29: =(Data!D6*Compare!H6)+Data!D6 -> 7834.8396 | J29: =Compare!$H$6 -> -0.1012 | K29: =I29/((1+Data!$K$4)^H29) -> 7122.5815 | M29: 1 | N29: =(Data!D6*Compare!J6)+Data!D6 -> 9695.0474 | O29: =Compare!$J$6 -> 0.1122 | P29: =N29/((1+Data!$K$4)^M29) -> 8813.6795
C30: 2 | D30: =(D29*E30)+D29 -> 9337.8683 | E30: =Data!$F$6 -> 0.035 | F30: =D30/((1+Data!$K$4)^C30) -> 7717.2465 | H30: 2 | I30: =(I29*J30)+I29 -> 7041.9538 | J30: =Compare!$H$6 -> -0.1012 | K30: =I30/((1+Data!$K$4)^H30) -> 5819.7966 | M30: 2 | N30: =(N29*O30)+N29 -> 10782.832 | O30: =Compare!$J$6 -> 0.1122 | P30: =N30/((1+Data!$K$4)^M30) -> 8911.4312
C31: 3 | D31: =(D30*E31)+D30 -> 9664.6937 | E31: =Data!$F$6 -> 0.035 | F31: =D31/((1+Data!$K$4)^C31) -> 7261.2274 | H31: 3 | I31: =(I30*J31)+I30 -> 6329.3081 | J31: =Compare!$H$6 -> -0.1012 | K31: =I31/((1+Data!$K$4)^H31) -> 4755.3029 | M31: 3 | N31: =(N30*O31)+N30 -> 11992.665 | O31: =Compare!$J$6 -> 0.1122 | P31: =N31/((1+Data!$K$4)^M31) -> 9010.267
C32: 4 | D32: =(D31*E32)+D31 -> 10002.958 | E32: =Data!$F$6 -> 0.035 | F32: =D32/((1+Data!$K$4)^C32) -> 6832.1549 | H32: 4 | I32: =(I31*J32)+I31 -> 5688.7821 | J32: =Compare!$H$6 -> -0.1012 | K32: =I32/((1+Data!$K$4)^H32) -> 3885.5147 | M32: 4 | N32: =(N31*O32)+N31 -> 13338.242 | O32: =Compare!$J$6 -> 0.1122 | P32: =N32/((1+Data!$K$4)^M32) -> 9110.1991
C33: 5 | D33: =(D32*E33)+D32 -> 10353.062 | E33: =Data!$F$6 -> 0.035 | F33: =D33/((1+Data!$K$4)^C33) -> 6428.4367 | H33: 5 | I33: =(I32*J33)+I32 -> 5113.0774 | J33: =Compare!$H$6 -> -0.1012 | K33: =I33/((1+Data!$K$4)^H33) -> 3174.8188 | M33: 5 | N33: =(N32*O33)+N32 -> 14834.793 | O33: =Compare!$J$6 -> 0.1122 | P33: =N33/((1+Data!$K$4)^M33) -> 9211.2395
C34: Terminal year | D34: =(D33*Data!$K$3)+D33 -> 10663.653 | E34: Present value | F34: =SUM(F29:F33) -> 36440.97 | H34: Terminal year | I34: =(I33*Data!$K$3)+I33 -> 5266.4697 | J34: Present value | K34: =SUM(K29:K33) -> 24758.014 | M34: Terminal year | N34: =(N33*Data!$K$3)+N33 -> 15279.837 | O34: Present value | P34: =SUM(P29:P33) -> 45056.816
C35: Discounted terminal value | D35: =((D34)/(Data!$K$4-Data!$K$3))/(1+Data!$K$4)^C33 -> 94589.854 | E35: Number of shares (millions) | F35: =Compare!$E$6 -> 1176.41 | H35: Discounted terminal value | I35: =((I34)/(Data!$K$4-Data!$K$3))/(1+Data!$K$4)^H33 -> 46715.19 | J35: Number of shares (millions) | K35: =Compare!$E$6 -> 1176.41 | M35: Discounted terminal value | N35: =((N34)/(Data!$K$4-Data!$K$3))/(1+Data!$K$4)^M33 -> 135536.81 | O35: Number of shares (millions) | P35: =Compare!$E$6 -> 1176.41
C36: Total Present Value of Cash Flows | D36: =F34+D35 -> 131030.82 | E36: Estimated intrinsic value | F36: =D36/F35 -> 111.38194 | H36: Total Present Value of Cash Flows | I36: =K34+I35 -> 71473.205 | J36: Estimated intrinsic value | K36: =I36/K35 -> 60.755353 | M36: Total Present Value of Cash Flows | N36: =P34+N35 -> 180593.63 | O36: Estimated intrinsic value | P36: =N36/P35 -> 153.51249
B38: =IF(Data!C7="","",Data!C7) -> SLB | C38: Table E.1 d | H38: Table E.2 d | M38: Table E.3 d
C39: Free cash flow data with user's assumed growth rate | H39: Free cash flow data with EPS growth next 5 years | M39: Free cash flow data with EPS growth past 5 years
C40: Year | D40: Free cash flow | E40: Assumed growth | F40: Discounted value
C41: 1 | D41: =(Data!D7*Data!F7)+Data!D7 -> 4726.8 | E41: =Data!$F$7 -> 0.04 | F41: =D41/((1+Data!$K$4)^C41) -> 4297.0909 | H41: 1 | I41: =(Data!D7*Compare!H7)+Data!D7 -> 5440.365 | J41: =Compare!$H$7 -> 0.197 | K41: =I41/((1+Data!$K$4)^H41) -> 4945.7864 | M41: 1 | N41: =(Data!D7*Compare!J7)+Data!D7 -> 5169.483 | O41: =Compare!$J$7 -> 0.1374 | P41: =N41/((1+Data!$K$4)^M41) -> 4699.53
C42: 2 | D42: =(D41*E42)+D41 -> 4915.872 | E42: =Data!$F$7 -> 0.04 | F42: =D42/((1+Data!$K$4)^C42) -> 4062.7041 | H42: 2 | I42: =(I41*J42)+I41 -> 6512.1169 | J42: =Compare!$H$7 -> 0.197 | K42: =I42/((1+Data!$K$4)^H42) -> 5381.9148 | M42: 2 | N42: =(N41*O42)+N41 -> 5879.77 | O42: =Compare!$J$7 -> 0.1374 | P42: =N42/((1+Data!$K$4)^M42) -> 4859.314
C43: 3 | D43: =(D42*E43)+D42 -> 5112.5069 | E43: =Data!$F$7 -> 0.04 | F43: =D43/((1+Data!$K$4)^C43) -> 3841.1021 | H43: 3 | I43: =(I42*J43)+I42 -> 7795.0039 | J43: =Compare!$H$7 -> 0.197 | K43: =I43/((1+Data!$K$4)^H43) -> 5856.5018 | M43: 3 | N43: =(N42*O43)+N42 -> 6687.6504 | O43: =Compare!$J$7 -> 0.1374 | P43: =N43/((1+Data!$K$4)^M43) -> 5024.5307
C44: 4 | D44: =(D43*E44)+D43 -> 5317.0072 | E44: =Data!$F$7 -> 0.04 | F44: =D44/((1+Data!$K$4)^C44) -> 3631.5874 | H44: 4 | I44: =(I43*J44)+I43 -> 9330.6197 | J44: =Compare!$H$7 -> 0.197 | K44: =I44/((1+Data!$K$4)^H44) -> 6372.9388 | M44: 4 | N44: =(N43*O44)+N43 -> 7606.5335 | O44: =Compare!$J$7 -> 0.1374 | P44: =N44/((1+Data!$K$4)^M44) -> 5195.3647
...
